BEGIN:VCALENDAR
VERSION:2.0
PRODID:-//Province III - ECPv6.15.20//NONSGML v1.0//EN
CALSCALE:GREGORIAN
METHOD:PUBLISH
X-ORIGINAL-URL:https://province3.org
X-WR-CALDESC:Events for Province III
REFRESH-INTERVAL;VALUE=DURATION:PT1H
X-Robots-Tag:noindex
X-PUBLISHED-TTL:PT1H
BEGIN:VTIMEZONE
TZID:America/New_York
BEGIN:DAYLIGHT
TZOFFSETFROM:-0500
TZOFFSETTO:-0400
TZNAME:EDT
DTSTART:20250309T070000
END:DAYLIGHT
BEGIN:STANDARD
TZOFFSETFROM:-0400
TZOFFSETTO:-0500
TZNAME:EST
DTSTART:20251102T060000
END:STANDARD
BEGIN:DAYLIGHT
TZOFFSETFROM:-0500
TZOFFSETTO:-0400
TZNAME:EDT
DTSTART:20260308T070000
END:DAYLIGHT
BEGIN:STANDARD
TZOFFSETFROM:-0400
TZOFFSETTO:-0500
TZNAME:EST
DTSTART:20261101T060000
END:STANDARD
BEGIN:DAYLIGHT
TZOFFSETFROM:-0500
TZOFFSETTO:-0400
TZNAME:EDT
DTSTART:20270314T070000
END:DAYLIGHT
BEGIN:STANDARD
TZOFFSETFROM:-0400
TZOFFSETTO:-0500
TZNAME:EST
DTSTART:20271107T060000
END:STANDARD
END:VTIMEZONE
BEGIN:VEVENT
DTSTART;VALUE=DATE:20260130
DTEND;VALUE=DATE:20260202
DTSTAMP:20260420T064125
CREATED:20250903T160230Z
LAST-MODIFIED:20250903T160230Z
UID:2843-1769731200-1769990399@province3.org
SUMMARY:Diocese of Southwestern Virginia Convention
DESCRIPTION:
URL:https://province3.org/event/diocese-of-southwestern-virginia-convention/
CATEGORIES:Diocesan Events
END:VEVENT
BEGIN:VEVENT
DTSTART;VALUE=DATE:20260207
DTEND;VALUE=DATE:20260208
DTSTAMP:20260420T064125
CREATED:20250819T184647Z
LAST-MODIFIED:20250819T184647Z
UID:2801-1770422400-1770508799@province3.org
SUMMARY:Diocese of Southern Virginia Convention
DESCRIPTION:
URL:https://province3.org/event/diocese-of-southern-virginia-convention/
END:VEVENT
BEGIN:VEVENT
DTSTART;VALUE=DATE:20260209
DTEND;VALUE=DATE:20260213
DTSTAMP:20260420T064125
CREATED:20250828T144157Z
LAST-MODIFIED:20250828T144157Z
UID:2836-1770595200-1770940799@province3.org
SUMMARY:Province III Formation Retreat
DESCRIPTION:We know not everyone can travel to Denver to FORMA. So\, for those who can’t or–even if you do!–come spend time in retreat with your fellow formation workers in Province III.
URL:https://province3.org/event/province-iii-formation-retreat/
END:VEVENT
BEGIN:VEVENT
DTSTART;VALUE=DATE:20260227
DTEND;VALUE=DATE:20260301
DTSTAMP:20260420T064125
CREATED:20250819T183004Z
LAST-MODIFIED:20250819T183215Z
UID:2789-1772150400-1772323199@province3.org
SUMMARY:Diocese of Easton Convention
DESCRIPTION:
URL:https://province3.org/event/diocese-of-easton-convention/
END:VEVENT
END:VCALENDAR