BEGIN:VCALENDAR
VERSION:2.0
PRODID:-//Province III - ECPv6.15.20//NONSGML v1.0//EN
CALSCALE:GREGORIAN
METHOD:PUBLISH
X-WR-CALNAME:Province III
X-ORIGINAL-URL:https://province3.org
X-WR-CALDESC:Events for Province III
REFRESH-INTERVAL;VALUE=DURATION:PT1H
X-Robots-Tag:noindex
X-PUBLISHED-TTL:PT1H
BEGIN:VTIMEZONE
TZID:America/New_York
BEGIN:DAYLIGHT
TZOFFSETFROM:-0500
TZOFFSETTO:-0400
TZNAME:EDT
DTSTART:20240310T070000
END:DAYLIGHT
BEGIN:STANDARD
TZOFFSETFROM:-0400
TZOFFSETTO:-0500
TZNAME:EST
DTSTART:20241103T060000
END:STANDARD
BEGIN:DAYLIGHT
TZOFFSETFROM:-0500
TZOFFSETTO:-0400
TZNAME:EDT
DTSTART:20250309T070000
END:DAYLIGHT
BEGIN:STANDARD
TZOFFSETFROM:-0400
TZOFFSETTO:-0500
TZNAME:EST
DTSTART:20251102T060000
END:STANDARD
BEGIN:DAYLIGHT
TZOFFSETFROM:-0500
TZOFFSETTO:-0400
TZNAME:EDT
DTSTART:20260308T070000
END:DAYLIGHT
BEGIN:STANDARD
TZOFFSETFROM:-0400
TZOFFSETTO:-0500
TZNAME:EST
DTSTART:20261101T060000
END:STANDARD
END:VTIMEZONE
BEGIN:VEVENT
DTSTART;VALUE=DATE:20250929
DTEND;VALUE=DATE:20251002
DTSTAMP:20260424T053249
CREATED:20250807T212400Z
LAST-MODIFIED:20250807T212550Z
UID:2753-1759104000-1759363199@province3.org
SUMMARY:Eco-Regions "Called to Transformation" workshop
DESCRIPTION:An Asset-Based Community Development (ABCD) an Asset-Based Community Development (ABCD) workshop to take place at the Lake Logan Retreat Center in the Diocese of Western North Carolina.
URL:https://province3.org/event/eco-regions-called-to-transformationworkshop/
LOCATION:Lake Logan Retreat Center
END:VEVENT
BEGIN:VEVENT
DTSTART;VALUE=DATE:20251010
DTEND;VALUE=DATE:20251012
DTSTAMP:20260424T053249
CREATED:20250819T184100Z
LAST-MODIFIED:20250819T184235Z
UID:2794-1760054400-1760227199@province3.org
SUMMARY:Diocese of Northwestern Pennsylvania Convention
DESCRIPTION:
URL:https://province3.org/event/diocese-of-western-new-york-convention/
END:VEVENT
BEGIN:VEVENT
DTSTART;VALUE=DATE:20251017
DTEND;VALUE=DATE:20251019
DTSTAMP:20260424T053249
CREATED:20250807T212851Z
LAST-MODIFIED:20250819T182224Z
UID:2758-1760659200-1760831999@province3.org
SUMMARY:Dioceses of Central Pennsylvania Diocesan and Bethlehem Convention
DESCRIPTION:
URL:https://province3.org/event/central-pennsylvania-diocesan-convention/
LOCATION:Hilton Scranton and Convention Center
END:VEVENT
BEGIN:VEVENT
DTSTART;VALUE=DATE:20251017
DTEND;VALUE=DATE:20251019
DTSTAMP:20260424T053249
CREATED:20250819T184426Z
LAST-MODIFIED:20250819T184426Z
UID:2797-1760659200-1760831999@province3.org
SUMMARY:Diocese of Pennsylvania Convention
DESCRIPTION:
URL:https://province3.org/event/diocese-of-pennsylvania-convention/
END:VEVENT
BEGIN:VEVENT
DTSTART;VALUE=DATE:20251020
DTEND;VALUE=DATE:20251023
DTSTAMP:20260424T053249
CREATED:20250305T211046Z
LAST-MODIFIED:20250305T212453Z
UID:2445-1760918400-1761177599@province3.org
SUMMARY:TEC Executive Council meeting
DESCRIPTION:
URL:https://province3.org/event/tec-executive-council-meeting-2/
LOCATION:Kanuga Conference Center\, Hendersonville\, NC\, United States
END:VEVENT
BEGIN:VEVENT
DTSTART;TZID=America/New_York:20251020T091500
DTEND;TZID=America/New_York:20251020T160000
DTSTAMP:20260424T053249
CREATED:20251020T164304Z
LAST-MODIFIED:20251020T164304Z
UID:2969-1760951700-1760976000@province3.org
SUMMARY:P3 Website Training day
DESCRIPTION:
URL:https://province3.org/event/p3-website-training-day/
LOCATION:Cathedral of the Incarnation\, 4 East University Parkway\, Baltimore\, MD\, 21218\, United States
END:VEVENT
BEGIN:VEVENT
DTSTART;TZID=America/New_York:20251027T093000
DTEND;TZID=America/New_York:20251027T120000
DTSTAMP:20260424T053249
CREATED:20250305T210644Z
LAST-MODIFIED:20251003T192011Z
UID:2440-1761557400-1761566400@province3.org
SUMMARY:Provincial Council 2025
DESCRIPTION:We will be meeting on zoom for the 2025 Council. More information will be forthcoming soon.
URL:https://province3.org/event/council-2025/
LOCATION:Zoom
END:VEVENT
END:VCALENDAR