BEGIN:VCALENDAR
VERSION:2.0
PRODID:-//Province III - ECPv6.15.20//NONSGML v1.0//EN
CALSCALE:GREGORIAN
METHOD:PUBLISH
X-ORIGINAL-URL:https://province3.org
X-WR-CALDESC:Events for Province III
REFRESH-INTERVAL;VALUE=DURATION:PT1H
X-Robots-Tag:noindex
X-PUBLISHED-TTL:PT1H
BEGIN:VTIMEZONE
TZID:America/New_York
BEGIN:DAYLIGHT
TZOFFSETFROM:-0500
TZOFFSETTO:-0400
TZNAME:EDT
DTSTART:20240310T070000
END:DAYLIGHT
BEGIN:STANDARD
TZOFFSETFROM:-0400
TZOFFSETTO:-0500
TZNAME:EST
DTSTART:20241103T060000
END:STANDARD
BEGIN:DAYLIGHT
TZOFFSETFROM:-0500
TZOFFSETTO:-0400
TZNAME:EDT
DTSTART:20250309T070000
END:DAYLIGHT
BEGIN:STANDARD
TZOFFSETFROM:-0400
TZOFFSETTO:-0500
TZNAME:EST
DTSTART:20251102T060000
END:STANDARD
BEGIN:DAYLIGHT
TZOFFSETFROM:-0500
TZOFFSETTO:-0400
TZNAME:EDT
DTSTART:20260308T070000
END:DAYLIGHT
BEGIN:STANDARD
TZOFFSETFROM:-0400
TZOFFSETTO:-0500
TZNAME:EST
DTSTART:20261101T060000
END:STANDARD
END:VTIMEZONE
BEGIN:VEVENT
DTSTART;VALUE=DATE:20250909
DTEND;VALUE=DATE:20250916
DTSTAMP:20260424T083148
CREATED:20250819T193430Z
LAST-MODIFIED:20250819T193430Z
UID:2807-1757376000-1757980799@province3.org
SUMMARY:House of Bishops Meeting in Province IX
DESCRIPTION:
URL:https://province3.org/event/house-of-bishops-meeting-in-province-ix/
END:VEVENT
BEGIN:VEVENT
DTSTART;VALUE=DATE:20250910
DTEND;VALUE=DATE:20250916
DTSTAMP:20260424T083148
CREATED:20250305T212212Z
LAST-MODIFIED:20250305T212212Z
UID:2456-1757462400-1757980799@province3.org
SUMMARY:TEC House of Bishops
DESCRIPTION:
URL:https://province3.org/event/tec-house-of-bishops-2/
END:VEVENT
BEGIN:VEVENT
DTSTART;TZID=America/New_York:20250924T090000
DTEND;TZID=America/New_York:20250924T100000
DTSTAMP:20260424T083148
CREATED:20250724T195946Z
LAST-MODIFIED:20250724T200224Z
UID:2733-1758704400-1758708000@province3.org
SUMMARY:Formation Leaders Zoom Meeting
DESCRIPTION:Every 4th Wednesday of the month from 9-10 am. Contact Pam Cochran if interested in attending.
URL:https://province3.org/event/formation-leaders-zoom-meeting/
LOCATION:Zoom
END:VEVENT
BEGIN:VEVENT
DTSTART;VALUE=DATE:20250929
DTEND;VALUE=DATE:20251002
DTSTAMP:20260424T083148
CREATED:20250807T212400Z
LAST-MODIFIED:20250807T212550Z
UID:2753-1759104000-1759363199@province3.org
SUMMARY:Eco-Regions "Called to Transformation" workshop
DESCRIPTION:An Asset-Based Community Development (ABCD) an Asset-Based Community Development (ABCD) workshop to take place at the Lake Logan Retreat Center in the Diocese of Western North Carolina.
URL:https://province3.org/event/eco-regions-called-to-transformationworkshop/
LOCATION:Lake Logan Retreat Center
END:VEVENT
END:VCALENDAR