BEGIN:VCALENDAR
VERSION:2.0
PRODID:-//Province III - ECPv6.15.20//NONSGML v1.0//EN
CALSCALE:GREGORIAN
METHOD:PUBLISH
X-WR-CALNAME:Province III
X-ORIGINAL-URL:https://province3.org
X-WR-CALDESC:Events for Province III
REFRESH-INTERVAL;VALUE=DURATION:PT1H
X-Robots-Tag:noindex
X-PUBLISHED-TTL:PT1H
BEGIN:VTIMEZONE
TZID:America/New_York
BEGIN:DAYLIGHT
TZOFFSETFROM:-0500
TZOFFSETTO:-0400
TZNAME:EDT
DTSTART:20240310T070000
END:DAYLIGHT
BEGIN:STANDARD
TZOFFSETFROM:-0400
TZOFFSETTO:-0500
TZNAME:EST
DTSTART:20241103T060000
END:STANDARD
BEGIN:DAYLIGHT
TZOFFSETFROM:-0500
TZOFFSETTO:-0400
TZNAME:EDT
DTSTART:20250309T070000
END:DAYLIGHT
BEGIN:STANDARD
TZOFFSETFROM:-0400
TZOFFSETTO:-0500
TZNAME:EST
DTSTART:20251102T060000
END:STANDARD
BEGIN:DAYLIGHT
TZOFFSETFROM:-0500
TZOFFSETTO:-0400
TZNAME:EDT
DTSTART:20260308T070000
END:DAYLIGHT
BEGIN:STANDARD
TZOFFSETFROM:-0400
TZOFFSETTO:-0500
TZNAME:EST
DTSTART:20261101T060000
END:STANDARD
END:VTIMEZONE
BEGIN:VEVENT
DTSTART;VALUE=DATE:20250318
DTEND;VALUE=DATE:20250326
DTSTAMP:20260425T075253
CREATED:20250305T212051Z
LAST-MODIFIED:20250305T212051Z
UID:2454-1742256000-1742947199@province3.org
SUMMARY:TEC House of Bishops
DESCRIPTION:
URL:https://province3.org/event/tec-house-of-bishops/
LOCATION:WV
END:VEVENT
BEGIN:VEVENT
DTSTART;TZID=America/New_York:20250315T080000
DTEND;TZID=America/New_York:20250315T170000
DTSTAMP:20260425T075253
CREATED:20250303T193450Z
LAST-MODIFIED:20250305T211356Z
UID:2334-1742025600-1742058000@province3.org
SUMMARY:Maryland College for Congregational Development\, week 4
DESCRIPTION:The College is offering a monthly Saturday training session for 5 weeks at the Diocese of Maryland offices in Baltimore.
URL:https://province3.org/event/maryland-college-for-congregational-development-week-4/
LOCATION:Cathedral of the Incarnation\, 4 East University Parkway\, Baltimore\, MD\, 21218\, United States
END:VEVENT
BEGIN:VEVENT
DTSTART;TZID=America/New_York:20250312T153000
DTEND;TZID=America/New_York:20250312T163000
DTSTAMP:20260425T075253
CREATED:20250303T192906Z
LAST-MODIFIED:20250305T211237Z
UID:2330-1741793400-1741797000@province3.org
SUMMARY:P3 Executive Committee Meeting
DESCRIPTION:
URL:https://province3.org/event/executive-committee-meeting/
LOCATION:Zoom
END:VEVENT
BEGIN:VEVENT
DTSTART;TZID=America/New_York:20250306T110000
DTEND;TZID=America/New_York:20250306T120000
DTSTAMP:20260425T075253
CREATED:20250303T192432Z
LAST-MODIFIED:20250303T193854Z
UID:2327-1741258800-1741262400@province3.org
SUMMARY:Formation Ministry Leaders meeting
DESCRIPTION:Contact Amanda Akes-Cardwell or Pam Cochran if you are interested in joining this event.
URL:https://province3.org/event/formation-ministry-leaders-monthly-meeting/
LOCATION:Zoom
END:VEVENT
BEGIN:VEVENT
DTSTART;VALUE=DATE:20250305
DTEND;VALUE=DATE:20250306
DTSTAMP:20260425T075253
CREATED:20250303T193045Z
LAST-MODIFIED:20250303T193045Z
UID:2332-1741132800-1741219199@province3.org
SUMMARY:ASH WEDNESDAY
DESCRIPTION:The beginning of the liturgical season of Lent.
URL:https://province3.org/event/ash-wednesday/
LOCATION:WV
END:VEVENT
BEGIN:VEVENT
DTSTART;VALUE=DATE:20250127
DTEND;VALUE=DATE:20250131
DTSTAMP:20260425T075253
CREATED:20250303T215015Z
LAST-MODIFIED:20250303T215015Z
UID:2373-1737936000-1738281599@province3.org
SUMMARY:Forma/Province 3 retreat
DESCRIPTION:
URL:https://province3.org/event/forma-province-3-retreat/
LOCATION:WV
END:VEVENT
BEGIN:VEVENT
DTSTART;VALUE=DATE:20250103
DTEND;VALUE=DATE:20250105
DTSTAMP:20260425T075253
CREATED:20250303T214807Z
LAST-MODIFIED:20250303T215719Z
UID:2371-1735862400-1736035199@province3.org
SUMMARY:Rooted & Relevant: A Campus Ministry Retreat
DESCRIPTION:
URL:https://province3.org/event/rooted-relevant-a-campus-ministry-retreat/
LOCATION:WV
END:VEVENT
END:VCALENDAR